BEGIN:VCALENDAR
VERSION:2.0
PRODID:-//hacksw/handcal//NONSGML v1.0//EN
CALSCALE:GREGORIAN
BEGIN:VEVENT
DTSTAMP:20260420T082007
UID:69e5e1b7c1e4c
LOCATION:IfP\, Goerzallee 05\, Berlin-Lichterfelde\, Raum 12/13
DESCRIPTION:Treffen des IfP-Vorstands und der Vorstände von JIB\, EJI und PaIB mit den Aus- und Weiterbildungsteilnehmenden
DTSTART:20270103T130000
DTEND:20270103T150000
SUMMARY:Neujahrsmatinee 2027
END:VEVENT
END:VCALENDAR