BEGIN:VCALENDAR
VERSION:2.0
PRODID:-//hacksw/handcal//NONSGML v1.0//EN
CALSCALE:GREGORIAN
BEGIN:VEVENT
DTSTAMP:20260422T084804
UID:69e88b44875d9
LOCATION:EJI/IfP\, Hauptstraße 19\, 10827 Berlin
DESCRIPTION:
DTSTART:20261104T200000
DTEND:20261104T220000
SUMMARY:Jour fixe des Edith-Jacobson-Instituts Berlin (November 2026)
END:VEVENT
END:VCALENDAR