BEGIN:VCALENDAR
VERSION:2.0
PRODID:-//hacksw/handcal//NONSGML v1.0//EN
CALSCALE:GREGORIAN
BEGIN:VEVENT
DTSTAMP:20260420T162252
UID:69e652dc0616c
LOCATION:EJI/IfP\, Goerzallee 05\, 12207 Berlin-Lichterfelde
DESCRIPTION:Vortrag: Von der Fläche zum Raum - Gedanken zur Verflechtung von Theorie\, Praxis und persönlicher Entwicklung in der Psychoanalyse
DTSTART:20260419T103000
DTEND:20260419T123000
SUMMARY:Festveranstaltung zu Ehren von Günther Molitor
END:VEVENT
END:VCALENDAR