BEGIN:VCALENDAR
VERSION:2.0
PRODID:-//hacksw/handcal//NONSGML v1.0//EN
CALSCALE:GREGORIAN
BEGIN:VEVENT
DTSTAMP:20260420T084203
UID:69e5e6db269df
LOCATION:IfP\, Hauptstr. 19\, 10827 Berlin-Schöneberg
DESCRIPTION:
DTSTART:20260521T200000
DTEND:20260521T220000
SUMMARY:Austausch zur Akkreditierung und zur Zukunft der Weiterbildung im IfP
END:VEVENT
END:VCALENDAR