BEGIN:VCALENDAR
VERSION:2.0
PRODID:-//hacksw/handcal//NONSGML v1.0//EN
CALSCALE:GREGORIAN
BEGIN:VEVENT
DTSTAMP:20260420T084310
UID:69e5e71e18d29
LOCATION:Goerzallee 05\, 12207 Berlin
DESCRIPTION:
DTSTART:20270605T000000
DTEND:20270606T000000
SUMMARY:80-Jahr-Feier des IfP Berlin
END:VEVENT
END:VCALENDAR