BEGIN:VCALENDAR
VERSION:2.0
PRODID:-//hacksw/handcal//NONSGML v1.0//EN
CALSCALE:GREGORIAN
BEGIN:VEVENT
DTSTAMP:20260420T084717
UID:69e5e815962b2
LOCATION:PaIB/IfP\, Hauptstraße 19\, 10827 Berlin-Schöneberg
DESCRIPTION:Vortrag
DTSTART:20260429T200000
DTEND:20260429T220000
SUMMARY:Stationen der psychoanalytischen Antisemitismusforschung: Sigmund Freud\, Ernst Simmel und Herbert Rosenfeld
END:VEVENT
BEGIN:VEVENT
DTSTAMP:20260420T084717
UID:69e5e815962bc
LOCATION:IfP\, Hauptstr. 19\, 10827 Berlin-Schöneberg
DESCRIPTION:
DTSTART:20260521T200000
DTEND:20260521T220000
SUMMARY:Austausch zur Akkreditierung und zur Zukunft der Weiterbildung im IfP
END:VEVENT
BEGIN:VEVENT
DTSTAMP:20260420T084717
UID:69e5e815962c1
LOCATION:PaIB/IfP\, Hauptstraße 19\, 10827 Berlin-Schöneberg
DESCRIPTION:Vortrag
DTSTART:20260527T200000
DTEND:20260527T220000
SUMMARY:Über das Mütterliche im Eigenen: Weibliche Perversion und negativer Ödipuskomplex der Frau
END:VEVENT
BEGIN:VEVENT
DTSTAMP:20260420T084717
UID:69e5e815962c6
LOCATION:International Psychoanalytic University (IPU)\,<br />
Stromstraße 2 – 3\,<br />
10555 Berlin-Moabit
DESCRIPTION:im Rahmen der Langen Nacht der Wissenschaften
DTSTART:20260606T170000
DTEND:20260606T190000
SUMMARY:Lange Nacht der Psychoanalyse 2026
END:VEVENT
BEGIN:VEVENT
DTSTAMP:20260420T084717
UID:69e5e815962cb
LOCATION:EJI/IfP\, Hauptstraße 19\, 10827 Berlin
DESCRIPTION:
DTSTART:20260624T200000
DTEND:20260624T220000
SUMMARY:Jour fixe des Edith-Jacobson-Instituts Berlin (Juni 2026)
END:VEVENT
BEGIN:VEVENT
DTSTAMP:20260420T084717
UID:69e5e815962cf
LOCATION:PaIB/IfP\, Hauptstraße 19\, 10827 Berlin-Schöneberg
DESCRIPTION:Vortrag
DTSTART:20260624T200000
DTEND:20260624T220000
SUMMARY:»Einem Menschen begegnen heißt\, von einem Rätsel wachgehalten werden.« (E. Lévinas) oder Queere Identitäten in der Psychotherapie oder Wer bin ich? Wer ich bin!
END:VEVENT
BEGIN:VEVENT
DTSTAMP:20260420T084717
UID:69e5e815962d3
LOCATION:IfP. Goerzallee 05\, 12207 Berlin\, Raum 12+13
DESCRIPTION:
DTSTART:20260705T110000
DTEND:20260705T130000
SUMMARY:Sommerbrunch des Vorstands (2026)
END:VEVENT
BEGIN:VEVENT
DTSTAMP:20260420T084717
UID:69e5e815962d7
LOCATION:IfP\, Hauptstraße 19\, 3. OG\, 12207 Berlin-Schöneberg
DESCRIPTION:zur Weiterbildung in tiefenpsychologisch fundierter Psychotherapie und Psychoanalyse
DTSTART:20260918T193000
DTEND:20260918T213000
SUMMARY:Infoveranstaltung 09/2026
END:VEVENT
BEGIN:VEVENT
DTSTAMP:20260420T084717
UID:69e5e815962db
LOCATION:PaIB/IfP\, Hauptstraße 19\, 10827 Berlin-Schöneberg
DESCRIPTION:Vortrag
DTSTART:20260930T200000
DTEND:20260930T220000
SUMMARY:Magersucht: Ringen um Wachstum in Abgrundnähe
END:VEVENT
BEGIN:VEVENT
DTSTAMP:20260420T084717
UID:69e5e815962df
LOCATION:EJI/IfP\, Hauptstraße 19\, 10827 Berlin
DESCRIPTION:
DTSTART:20261104T200000
DTEND:20261104T220000
SUMMARY:Jour fixe des Edith-Jacobson-Instituts Berlin (November 2026)
END:VEVENT
BEGIN:VEVENT
DTSTAMP:20260420T084717
UID:69e5e815962e3
LOCATION:PaIB/IfP\, Hauptstraße 19\, 10827 Berlin-Schöneberg
DESCRIPTION:Vortrag
DTSTART:20261202T200000
DTEND:20261202T220000
SUMMARY:Aufwachsen im Zeitalter permanenter Vernetzung:Neuropsychoanalytische Überlegungen zur Smartphone-Nutzung und deren Auswirkungen auf die psychische Entwicklung von Kindern und Jugendlichen
END:VEVENT
BEGIN:VEVENT
DTSTAMP:20260420T084717
UID:69e5e815962e7
LOCATION:IfP\, Goerzallee 05\, Berlin-Lichterfelde\, Raum 12/13
DESCRIPTION:Treffen des IfP-Vorstands und der Vorstände von JIB\, EJI und PaIB mit den Aus- und Weiterbildungsteilnehmenden
DTSTART:20270103T130000
DTEND:20270103T150000
SUMMARY:Neujahrsmatinee 2027
END:VEVENT
BEGIN:VEVENT
DTSTAMP:20260420T084717
UID:69e5e815962eb
LOCATION:Goerzallee 05\, 12207 Berlin
DESCRIPTION:
DTSTART:20270605T000000
DTEND:20270606T000000
SUMMARY:80-Jahr-Feier des IfP Berlin
END:VEVENT
END:VCALENDAR